BEGIN:VCALENDAR
VERSION:2.0
PRODID:-//Tukios.com/
BEGIN:VEVENT
UID:c9d7e89e-a0c6-4e68-bc76-925da7e57b1c@www.beallfuneral.com
DTSTAMP:20260421T193429Z
DTSTART:20260501T140000Z
DTEND:20260501T153000Z
SUMMARY:Visitation
DESCRIPTION:
URL:https://www.beallfuneral.com/obituaries/charles-ford
LOCATION: 6512 Crain Hwy  Bowie MD 20715
GEO:38.979902;-76.714917
END:VEVENT
END:VCALENDAR