BEGIN:VCALENDAR
VERSION:2.0
PRODID:-//Tukios.com/
BEGIN:VEVENT
UID:b62a3ebb-d69d-4848-ab30-4e1f115d2ae2@www.beallfuneral.com
DTSTAMP:20260421T193446Z
DTSTART:20260501T153000Z
DTEND:20260501T163000Z
SUMMARY:Funeral Service
DESCRIPTION:
URL:https://www.beallfuneral.com/obituaries/charles-ford
LOCATION: 6512 Crain Hwy  Bowie MD 20715
GEO:38.979902;-76.714917
END:VEVENT
END:VCALENDAR