BEGIN:VCALENDAR
VERSION:2.0
PRODID:-//Tukios.com/
BEGIN:VEVENT
UID:4d975ca7-a505-4992-ab7b-4be67522f3ec@www.beallfuneral.com
DTSTAMP:20260421T193810Z
DTSTART:20260501T174500Z
DTEND:20260501T184500Z
SUMMARY:Burial
DESCRIPTION:
URL:https://www.beallfuneral.com/obituaries/charles-ford
LOCATION: 1122 Sunrise Beach Rd  Crownsville MD 21032
GEO:39.066048;-76.595871
END:VEVENT
END:VCALENDAR