BEGIN:VCALENDAR
VERSION:2.0
PRODID:-//Tukios.com/
BEGIN:VEVENT
UID:edf4c84a-cfb7-4015-b957-8e901542cfc4@www.beallfuneral.com
DTSTAMP:20260423T182608Z
DTSTART:20260501T200000Z
DTEND:20260501T223000Z
SUMMARY:Visitation
DESCRIPTION:
URL:https://www.beallfuneral.com/obituaries/chloe-feyes
LOCATION: 6512 Crain Hwy  Bowie MD 20715
GEO:38.979902;-76.714917
END:VEVENT
END:VCALENDAR