BEGIN:VCALENDAR
VERSION:2.0
PRODID:-//Tukios.com/
BEGIN:VEVENT
UID:3b13feda-a38e-4750-9ca5-2e23f8ec6bf4@www.beallfuneral.com
DTSTAMP:20260423T181918Z
DTSTART:20260501T223000Z
DTEND:20260501T233000Z
SUMMARY:Funeral Service
DESCRIPTION:
URL:https://www.beallfuneral.com/obituaries/chloe-feyes
LOCATION: 6512 Crain Hwy  Bowie MD 20715
GEO:38.979902;-76.714917
END:VEVENT
END:VCALENDAR