BEGIN:VCALENDAR
VERSION:2.0
PRODID:-//Tukios.com/
BEGIN:VEVENT
UID:1ce70d70-d4e8-4b6e-ae05-b545fa9cb629@www.beallfuneral.com
DTSTAMP:20260422T215253Z
DTSTART:20260508T130000Z
DTEND:20260508T150000Z
SUMMARY:Visitation
DESCRIPTION:
URL:https://www.beallfuneral.com/obituaries/james-lashley
LOCATION: 1600 St Camillus Dr  Silver Spring MD 20903
GEO:39.0094417;-76.9816777
END:VEVENT
END:VCALENDAR