BEGIN:VCALENDAR
VERSION:2.0
PRODID:-//Tukios.com/
BEGIN:VEVENT
UID:5aaa4dab-5c21-42ee-a5d2-341b6cd43c3e@www.beallfuneral.com
DTSTAMP:20260422T214651Z
DTSTART:20260508T150000Z
DTEND:20260508T160000Z
SUMMARY:Funeral Service
DESCRIPTION:
URL:https://www.beallfuneral.com/obituaries/james-lashley
LOCATION: 1600 St Camillus Dr  Silver Spring MD 20903
GEO:39.0094417;-76.9816777
END:VEVENT
END:VCALENDAR