BEGIN:VCALENDAR
VERSION:2.0
PRODID:-//Tukios.com/
BEGIN:VEVENT
UID:1f572498-0456-481a-a375-3f8e3a9c65a7@www.beallfuneral.com
DTSTAMP:20260420T200742Z
DTSTART:20260509T140000Z
DTEND:20260509T150000Z
SUMMARY:Visitation
DESCRIPTION:
URL:https://www.beallfuneral.com/obituaries/kymberleighe-richardson
LOCATION: 6512 Crain Hwy  Bowie MD 20715
GEO:38.979902;-76.714917
END:VEVENT
END:VCALENDAR