BEGIN:VCALENDAR
VERSION:2.0
PRODID:-//Tukios.com/
BEGIN:VEVENT
UID:e0233494-535f-43dc-80e0-e7afaa970519@www.beallfuneral.com
DTSTAMP:20260420T201115Z
DTSTART:20260430T174500Z
DTEND:20260430T184500Z
SUMMARY:Burial
DESCRIPTION:
URL:https://www.beallfuneral.com/obituaries/nicholas-meimaris
LOCATION: 1122 Sunrise Beach Rd  Crownsville MD 21032
GEO:39.066048;-76.595871
END:VEVENT
END:VCALENDAR