BEGIN:VCALENDAR
VERSION:2.0
PRODID:-//Tukios.com/
BEGIN:VEVENT
UID:e8630b26-53a3-49a9-87be-178277fa3a4d@www.beallfuneral.com
DTSTAMP:20260421T083712Z
DTSTART:20260418T153000Z
DTEND:20260418T163000Z
SUMMARY:Funeral Service
DESCRIPTION:
URL:https://www.beallfuneral.com/obituaries/padam-srivastava
LOCATION: 6512 Crain Hwy  Bowie MD 20715
GEO:38.979902;-76.714917
END:VEVENT
END:VCALENDAR