BEGIN:VCALENDAR
VERSION:2.0
PRODID:-//Tukios.com/
BEGIN:VEVENT
UID:d16bc7e5-e64a-4ea6-b5fb-2f3e5551c7e9@www.beallfuneral.com
DTSTAMP:20260422T191026Z
DTSTART:20260425T150000Z
DTEND:20260425T151500Z
SUMMARY:Funeral Service
DESCRIPTION:
URL:https://www.beallfuneral.com/obituaries/soberekon-george
LOCATION: 6512 Crain Hwy  Bowie MD 20715
GEO:38.979902;-76.714917
END:VEVENT
END:VCALENDAR