BEGIN:VCALENDAR
VERSION:2.0
PRODID:-//Tukios.com/
BEGIN:VEVENT
UID:e84bb353-46a5-437d-9d11-3f54efe0fbcf@www.beallfuneral.com
DTSTAMP:20260422T190541Z
DTSTART:20260425
SUMMARY:Burial
DESCRIPTION:
URL:https://www.beallfuneral.com/obituaries/soberekon-george
LOCATION:Maryland National Memorial 13300 Baltimore Ave  Laurel MD 20707
GEO:39.0735505;-76.8771406
END:VEVENT
END:VCALENDAR